BEGIN:VCALENDAR
VERSION:2.0
CALSCALE:GREGORIAN
PRODID:-//WordPress//RSVPMaker//EN
METHOD:REQUEST
BEGIN:VEVENT
DTSTAMP:20260425T222314Z
UID:BB836C01CDC9120A9C984C525E4B1A4A@rsvpmaker.com
SEQUENCE:0
STATUS:CONFIRMED
DTSTART:20231013T160000Z
DTEND:20231013T170000Z
LOCATION:See\: https\://www.uupsbu.org/rsvpmaker/2023-fall-delegate-as
 sembly/
SUMMARY:2023 Fall Delegate Assembly
DESCRIPTION:Event info\: https\://www.uupsbu.org/rsvpmaker/2023-fall-d
 elegate-assembly/
END:VEVENT
END:VCALENDAR