BEGIN:VCALENDAR
VERSION:2.0
CALSCALE:GREGORIAN
PRODID:-//WordPress//RSVPMaker//EN
METHOD:REQUEST
BEGIN:VEVENT
DTSTAMP:20260425T122818Z
UID:58EC998E5F04921D22AFDD67759DB6E4@rsvpmaker.com
SEQUENCE:0
STATUS:CONFIRMED
DTSTART:20240413T160000Z
DTEND:20240413T170000Z
LOCATION:See\: https\://www.uupsbu.org/rsvpmaker/2024-spring-delegate-
 assembly-2/
SUMMARY:2024 Spring Delegate Assembly
DESCRIPTION:Event info\: https\://www.uupsbu.org/rsvpmaker/2024-spring
 -delegate-assembly-2/
END:VEVENT
END:VCALENDAR