BEGIN:VCALENDAR
VERSION:2.0
CALSCALE:GREGORIAN
PRODID:-//WordPress//RSVPMaker//EN
METHOD:REQUEST
BEGIN:VEVENT
DTSTAMP:20260425T104800Z
UID:E1E1F667CE4596E5644BE6FAB627C226@rsvpmaker.com
SEQUENCE:0
STATUS:CONFIRMED
DTSTART:20240412T160000Z
DTEND:20240412T170000Z
LOCATION:See\: https\://www.uupsbu.org/rsvpmaker/2024-spring-delegate-
 assembly/
SUMMARY:2024 Spring Delegate Assembly
DESCRIPTION:Event info\: https\://www.uupsbu.org/rsvpmaker/2024-spring
 -delegate-assembly/
END:VEVENT
END:VCALENDAR