BEGIN:VCALENDAR
VERSION:2.0
CALSCALE:GREGORIAN
PRODID:-//WordPress//RSVPMaker//EN
METHOD:REQUEST
BEGIN:VEVENT
DTSTAMP:20260424T185443Z
UID:F81E516D45F7143402E9482B47248E3B@rsvpmaker.com
SEQUENCE:0
STATUS:CONFIRMED
DTSTART:20250218T200000Z
DTEND:20250218T210000Z
LOCATION:See\: https\://www.uupsbu.org/rsvpmaker/academic-council-2/
SUMMARY:Academic Council
DESCRIPTION:Event info\: https\://www.uupsbu.org/rsvpmaker/academic-co
 uncil-2/
END:VEVENT
END:VCALENDAR