BEGIN:VCALENDAR
VERSION:2.0
CALSCALE:GREGORIAN
PRODID:-//WordPress//RSVPMaker//EN
METHOD:REQUEST
BEGIN:VEVENT
DTSTAMP:20260424T080129Z
UID:CF79AE6ADDBA60AD018347359BD144D2@rsvpmaker.com
SEQUENCE:0
STATUS:CONFIRMED
DTSTART:20250917T160000Z
DTEND:20250917T170000Z
LOCATION:See\: https\://www.uupsbu.org/rsvpmaker/academic-council-5/
SUMMARY:Academic Council
DESCRIPTION:Event info\: https\://www.uupsbu.org/rsvpmaker/academic-co
 uncil-5/
END:VEVENT
END:VCALENDAR