BEGIN:VCALENDAR
VERSION:2.0
CALSCALE:GREGORIAN
PRODID:-//WordPress//RSVPMaker//EN
METHOD:REQUEST
BEGIN:VEVENT
DTSTAMP:20260424T010702Z
UID:D2319FEB7864F7123A48F0CE98E09936@rsvpmaker.com
SEQUENCE:0
STATUS:CONFIRMED
DTSTART:20260217T193000Z
DTEND:20260217T203000Z
LOCATION:See\: https\://www.uupsbu.org/rsvpmaker/academic-council-6/
SUMMARY:Academic Council
DESCRIPTION:Event info\: https\://www.uupsbu.org/rsvpmaker/academic-co
 uncil-6/
END:VEVENT
END:VCALENDAR