BEGIN:VCALENDAR
VERSION:2.0
CALSCALE:GREGORIAN
PRODID:-//WordPress//RSVPMaker//EN
METHOD:REQUEST
BEGIN:VEVENT
DTSTAMP:20260423T234524Z
UID:2B296AB4F2DB709CC20056F93C4B04EE@rsvpmaker.com
SEQUENCE:0
STATUS:CONFIRMED
DTSTART:20260331T183000Z
DTEND:20260331T193000Z
LOCATION:See\: https\://www.uupsbu.org/rsvpmaker/academic-council-7/
SUMMARY:Academic Council
DESCRIPTION:Event info\: https\://www.uupsbu.org/rsvpmaker/academic-co
 uncil-7/
END:VEVENT
END:VCALENDAR