BEGIN:VCALENDAR
VERSION:2.0
CALSCALE:GREGORIAN
PRODID:-//WordPress//RSVPMaker//EN
METHOD:REQUEST
BEGIN:VEVENT
DTSTAMP:20260423T231503Z
UID:A7EB3F86B0D99361A5053A41D7D38576@rsvpmaker.com
SEQUENCE:0
STATUS:CONFIRMED
DTSTART:20260421T183000Z
DTEND:20260421T193000Z
LOCATION:See\: https\://www.uupsbu.org/rsvpmaker/academic-council-8/
SUMMARY:Academic Council
DESCRIPTION:Event info\: https\://www.uupsbu.org/rsvpmaker/academic-co
 uncil-8/
END:VEVENT
END:VCALENDAR