BEGIN:VCALENDAR
VERSION:2.0
CALSCALE:GREGORIAN
PRODID:-//WordPress//RSVPMaker//EN
METHOD:REQUEST
BEGIN:VEVENT
DTSTAMP:20260423T233051Z
UID:09D90AF096EE93AAE1CECBB338D43020@rsvpmaker.com
SEQUENCE:0
STATUS:CONFIRMED
DTSTART:20260529T183000Z
DTEND:20260529T193000Z
LOCATION:See\: https\://www.uupsbu.org/rsvpmaker/academic-council-9/
SUMMARY:Academic Council
DESCRIPTION:Event info\: https\://www.uupsbu.org/rsvpmaker/academic-co
 uncil-9/
END:VEVENT
END:VCALENDAR