BEGIN:VCALENDAR
VERSION:2.0
CALSCALE:GREGORIAN
PRODID:-//WordPress//RSVPMaker//EN
METHOD:REQUEST
BEGIN:VEVENT
DTSTAMP:20260426T000310Z
UID:EF48E3EF07E359006F7869B04FA07F5E@rsvpmaker.com
SEQUENCE:0
STATUS:CONFIRMED
DTSTART:20230928T190000Z
DTEND:20230928T200000Z
LOCATION:See\: https\://www.uupsbu.org/rsvpmaker/academic-council-meet
 ing-13/
SUMMARY:Academic Council meeting
DESCRIPTION:Event info\: https\://www.uupsbu.org/rsvpmaker/academic-co
 uncil-meeting-13/
END:VEVENT
END:VCALENDAR