BEGIN:VCALENDAR
VERSION:2.0
CALSCALE:GREGORIAN
PRODID:-//WordPress//RSVPMaker//EN
METHOD:REQUEST
BEGIN:VEVENT
DTSTAMP:20260425T222815Z
UID:4747F5CA63B8E8BD670B26E4B1573961@rsvpmaker.com
SEQUENCE:0
STATUS:CONFIRMED
DTSTART:20231019T190000Z
DTEND:20231019T200000Z
LOCATION:See\: https\://www.uupsbu.org/rsvpmaker/academic-council-meet
 ing-14/
SUMMARY:Academic Council meeting
DESCRIPTION:Event info\: https\://www.uupsbu.org/rsvpmaker/academic-co
 uncil-meeting-14/
END:VEVENT
END:VCALENDAR