BEGIN:VCALENDAR
VERSION:2.0
CALSCALE:GREGORIAN
PRODID:-//WordPress//RSVPMaker//EN
METHOD:REQUEST
BEGIN:VEVENT
DTSTAMP:20260425T191918Z
UID:79121BB953A3BD47C076F20234BAFD2E@rsvpmaker.com
SEQUENCE:0
STATUS:CONFIRMED
DTSTART:20231115T200000Z
DTEND:20231115T210000Z
LOCATION:See\: https\://www.uupsbu.org/rsvpmaker/academic-council-meet
 ing-15/
SUMMARY:Academic Council meeting
DESCRIPTION:Event info\: https\://www.uupsbu.org/rsvpmaker/academic-co
 uncil-meeting-15/
END:VEVENT
END:VCALENDAR