BEGIN:VCALENDAR
VERSION:2.0
CALSCALE:GREGORIAN
PRODID:-//WordPress//RSVPMaker//EN
METHOD:REQUEST
BEGIN:VEVENT
DTSTAMP:20260425T124117Z
UID:F82A944B799EAC194EA37A388DAA8B19@rsvpmaker.com
SEQUENCE:0
STATUS:CONFIRMED
DTSTART:20240326T190000Z
DTEND:20240326T200000Z
LOCATION:See\: https\://www.uupsbu.org/rsvpmaker/academic-council-meet
 ing-16/
SUMMARY:Academic Council Meeting
DESCRIPTION:Event info\: https\://www.uupsbu.org/rsvpmaker/academic-co
 uncil-meeting-16/
END:VEVENT
END:VCALENDAR