BEGIN:VCALENDAR
VERSION:2.0
CALSCALE:GREGORIAN
PRODID:-//WordPress//RSVPMaker//EN
METHOD:REQUEST
BEGIN:VEVENT
DTSTAMP:20260425T105202Z
UID:03492E99E42E7EA8480CDFB4899604F5@rsvpmaker.com
SEQUENCE:0
STATUS:CONFIRMED
DTSTART:20240423T190000Z
DTEND:20240423T200000Z
LOCATION:See\: https\://www.uupsbu.org/rsvpmaker/academic-council-meet
 ing-17/
SUMMARY:Academic Council Meeting
DESCRIPTION:Event info\: https\://www.uupsbu.org/rsvpmaker/academic-co
 uncil-meeting-17/
END:VEVENT
END:VCALENDAR