BEGIN:VCALENDAR
VERSION:2.0
CALSCALE:GREGORIAN
PRODID:-//WordPress//RSVPMaker//EN
METHOD:REQUEST
BEGIN:VEVENT
DTSTAMP:20260425T023016Z
UID:0D82627E10660AF39EA7EB69C3568955@rsvpmaker.com
SEQUENCE:0
STATUS:CONFIRMED
DTSTART:20240930T190000Z
DTEND:20240930T200000Z
LOCATION:See\: https\://www.uupsbu.org/rsvpmaker/academic-council-meet
 ing-18/
SUMMARY:Academic Council Meeting
DESCRIPTION:Event info\: https\://www.uupsbu.org/rsvpmaker/academic-co
 uncil-meeting-18/
END:VEVENT
END:VCALENDAR