BEGIN:VCALENDAR
VERSION:2.0
CALSCALE:GREGORIAN
PRODID:-//WordPress//RSVPMaker//EN
METHOD:REQUEST
BEGIN:VEVENT
DTSTAMP:20260424T232242Z
UID:CA7E09EACF1AE34BC819D495C5ADFED9@rsvpmaker.com
SEQUENCE:0
STATUS:CONFIRMED
DTSTART:20241125T200000Z
DTEND:20241125T210000Z
LOCATION:See\: https\://www.uupsbu.org/rsvpmaker/academic-council-meet
 ing-20/
SUMMARY:Academic Council Meeting
DESCRIPTION:Event info\: https\://www.uupsbu.org/rsvpmaker/academic-co
 uncil-meeting-20/
END:VEVENT
END:VCALENDAR