BEGIN:VCALENDAR
VERSION:2.0
CALSCALE:GREGORIAN
PRODID:-//WordPress//RSVPMaker//EN
METHOD:REQUEST
BEGIN:VEVENT
DTSTAMP:20260425T134607Z
UID:5B69B9CB83065D403869739AE7F0995E@rsvpmaker.com
SEQUENCE:0
STATUS:CONFIRMED
DTSTART:20160224T170000Z
DTEND:20160224T180000Z
LOCATION:See\: https\://www.uupsbu.org/rsvpmaker/academic-council-meet
 ing-2016-2-24/
SUMMARY:Academic Council Meeting
DESCRIPTION:Event info\: https\://www.uupsbu.org/rsvpmaker/academic-co
 uncil-meeting-2016-2-24/
END:VEVENT
END:VCALENDAR