BEGIN:VCALENDAR
VERSION:2.0
CALSCALE:GREGORIAN
PRODID:-//WordPress//RSVPMaker//EN
METHOD:REQUEST
BEGIN:VEVENT
DTSTAMP:20260424T121617Z
UID:C5658C711BA9170700FC7D3EE3F63E40@rsvpmaker.com
SEQUENCE:0
STATUS:CONFIRMED
DTSTART:20190418T160000Z
DTEND:20190418T170000Z
LOCATION:See\: https\://www.uupsbu.org/rsvpmaker/academic-council-meet
 ing-2019-4-18/
SUMMARY:Academic Council Meeting
DESCRIPTION:Event info\: https\://www.uupsbu.org/rsvpmaker/academic-co
 uncil-meeting-2019-4-18/
END:VEVENT
END:VCALENDAR