BEGIN:VCALENDAR
VERSION:2.0
CALSCALE:GREGORIAN
PRODID:-//WordPress//RSVPMaker//EN
METHOD:REQUEST
BEGIN:VEVENT
DTSTAMP:20260424T051402Z
UID:0CB5EBB1B34EC343DFE135DB691E4A85@rsvpmaker.com
SEQUENCE:0
STATUS:CONFIRMED
DTSTART:20251119T170000Z
DTEND:20251119T180000Z
LOCATION:See\: https\://www.uupsbu.org/rsvpmaker/academic-council-meet
 ing-21/
SUMMARY:Academic Council meeting
DESCRIPTION:Event info\: https\://www.uupsbu.org/rsvpmaker/academic-co
 uncil-meeting-21/
END:VEVENT
END:VCALENDAR