BEGIN:VCALENDAR
VERSION:2.0
CALSCALE:GREGORIAN
PRODID:-//WordPress//RSVPMaker//EN
METHOD:REQUEST
BEGIN:VEVENT
DTSTAMP:20260424T135857Z
UID:8DEB8D1DD92840F975B6931AB3A3C61E@rsvpmaker.com
SEQUENCE:0
STATUS:CONFIRMED
DTSTART:20190516T160000Z
DTEND:20190516T170000Z
LOCATION:See\: https\://www.uupsbu.org/rsvpmaker/active-shooter-self-d
 efense-training-2019-5-14/
SUMMARY:Active Shooter & Self Defense Training
DESCRIPTION:Event info\: https\://www.uupsbu.org/rsvpmaker/active-shoo
 ter-self-defense-training-2019-5-14/
END:VEVENT
END:VCALENDAR