BEGIN:VCALENDAR
VERSION:2.0
CALSCALE:GREGORIAN
PRODID:-//WordPress//RSVPMaker//EN
METHOD:REQUEST
BEGIN:VEVENT
DTSTAMP:20260424T051054Z
UID:5A99158E0C52F9E7D290906C9D08268D@rsvpmaker.com
SEQUENCE:0
STATUS:CONFIRMED
DTSTART:20181130T170000Z
DTEND:20181130T180000Z
LOCATION:See\: https\://www.uupsbu.org/rsvpmaker/additional-pre-retire
 ment-workshop-2018-11-20/
SUMMARY:Additional Pre-Retirement Workshop
DESCRIPTION:Event info\: https\://www.uupsbu.org/rsvpmaker/additional-
 pre-retirement-workshop-2018-11-20/
END:VEVENT
END:VCALENDAR