BEGIN:VCALENDAR
VERSION:2.0
CALSCALE:GREGORIAN
PRODID:-//WordPress//RSVPMaker//EN
METHOD:REQUEST
BEGIN:VEVENT
DTSTAMP:20260424T033433Z
UID:0A0A0C8AAA00ADE50F74A3F0CA981ED7@rsvpmaker.com
SEQUENCE:0
STATUS:CONFIRMED
DTSTART:20171207T170000Z
DTEND:20171207T180000Z
LOCATION:See\: https\://www.uupsbu.org/rsvpmaker/addressing-gender-bas
 ed-discrimination-harassment-2017-12-07/
SUMMARY:"Addressing Gender-Based Discrimination & Harassment
DESCRIPTION:Event info\: https\://www.uupsbu.org/rsvpmaker/addressing-
 gender-based-discrimination-harassment-2017-12-07/
END:VEVENT
END:VCALENDAR