BEGIN:VCALENDAR
VERSION:2.0
CALSCALE:GREGORIAN
PRODID:-//WordPress//RSVPMaker//EN
METHOD:REQUEST
BEGIN:VEVENT
DTSTAMP:20260425T192123Z
UID:F316E3FE33F1F754851712C760AB9D48@rsvpmaker.com
SEQUENCE:0
STATUS:CONFIRMED
DTSTART:20231129T170000Z
DTEND:20231129T180000Z
LOCATION:See\: https\://www.uupsbu.org/rsvpmaker/adirondack-orthodonti
 cs-invisalign-for-the-whole-family-webinar/
SUMMARY:Adirondack Orthodontics “Invisalign for The Whole Family” 
 webinar
DESCRIPTION:Event info\: https\://www.uupsbu.org/rsvpmaker/adirondack-
 orthodontics-invisalign-for-the-whole-family-webinar/
END:VEVENT
END:VCALENDAR