BEGIN:VCALENDAR
VERSION:2.0
CALSCALE:GREGORIAN
PRODID:-//WordPress//RSVPMaker//EN
METHOD:REQUEST
BEGIN:VEVENT
DTSTAMP:20260425T174247Z
UID:7070BAED1F0E21D1234A4B00082A1BEA@rsvpmaker.com
SEQUENCE:0
STATUS:CONFIRMED
DTSTART:20231206T150000Z
DTEND:20231206T180000Z
LOCATION:See\: https\://www.uupsbu.org/rsvpmaker/aflac-and-colonial-vo
 luntary-benefits-coming-to-uup-stony-brook-university-2/
SUMMARY:AFLAC and Colonial Voluntary Benefits coming to UUP Stony Broo
 k University!
DESCRIPTION:Event info\: https\://www.uupsbu.org/rsvpmaker/aflac-and-c
 olonial-voluntary-benefits-coming-to-uup-stony-brook-university-2/
END:VEVENT
END:VCALENDAR