BEGIN:VCALENDAR
VERSION:2.0
CALSCALE:GREGORIAN
PRODID:-//WordPress//RSVPMaker//EN
METHOD:REQUEST
BEGIN:VEVENT
DTSTAMP:20260425T160351Z
UID:08B2DBDC9CA941D237893BD425AF8BFA@rsvpmaker.com
SEQUENCE:0
STATUS:CONFIRMED
DTSTART:20240124T150000Z
DTEND:20240124T180000Z
LOCATION:See\: https\://www.uupsbu.org/rsvpmaker/aflac-and-colonial-vo
 luntary-benefits-coming-to-uup-stony-brook-university-3/
SUMMARY:AFLAC and Colonial Voluntary Benefits coming to UUP Stony Broo
 k University!
DESCRIPTION:Event info\: https\://www.uupsbu.org/rsvpmaker/aflac-and-c
 olonial-voluntary-benefits-coming-to-uup-stony-brook-university-3/
END:VEVENT
END:VCALENDAR