BEGIN:VCALENDAR
VERSION:2.0
CALSCALE:GREGORIAN
PRODID:-//WordPress//RSVPMaker//EN
METHOD:REQUEST
BEGIN:VEVENT
DTSTAMP:20260425T160447Z
UID:F8E918489F1E0A81FF11312F4D0630C1@rsvpmaker.com
SEQUENCE:0
STATUS:CONFIRMED
DTSTART:20240228T150000Z
DTEND:20240228T180000Z
LOCATION:See\: https\://www.uupsbu.org/rsvpmaker/aflac-and-colonial-vo
 luntary-benefits-coming-to-uup-stony-brook-university-4/
SUMMARY:AFLAC and Colonial Voluntary Benefits coming to UUP Stony Broo
 k University!
DESCRIPTION:Event info\: https\://www.uupsbu.org/rsvpmaker/aflac-and-c
 olonial-voluntary-benefits-coming-to-uup-stony-brook-university-4/
END:VEVENT
END:VCALENDAR