BEGIN:VCALENDAR
VERSION:2.0
CALSCALE:GREGORIAN
PRODID:-//WordPress//RSVPMaker//EN
METHOD:REQUEST
BEGIN:VEVENT
DTSTAMP:20260425T110003Z
UID:3BA716F4A7265EEF381F7CEF9E271F27@rsvpmaker.com
SEQUENCE:0
STATUS:CONFIRMED
DTSTART:20240424T140000Z
DTEND:20240424T170000Z
LOCATION:See\: https\://www.uupsbu.org/rsvpmaker/aflac-and-colonial-vo
 luntary-benefits-coming-to-uup-stony-brook-university-6/
SUMMARY:AFLAC and Colonial Voluntary Benefits coming to UUP Stony Broo
 k University!
DESCRIPTION:Event info\: https\://www.uupsbu.org/rsvpmaker/aflac-and-c
 olonial-voluntary-benefits-coming-to-uup-stony-brook-university-6/
END:VEVENT
END:VCALENDAR