BEGIN:VCALENDAR
VERSION:2.0
CALSCALE:GREGORIAN
PRODID:-//WordPress//RSVPMaker//EN
METHOD:REQUEST
BEGIN:VEVENT
DTSTAMP:20260424T171142Z
UID:185E65BC40581880C4F2C82958DE8CFE@rsvpmaker.com
SEQUENCE:0
STATUS:CONFIRMED
DTSTART:20170308T163000Z
DTEND:20170308T173000Z
LOCATION:See\: https\://www.uupsbu.org/rsvpmaker/aflac-enrollment-time
 -2017-03-08/
SUMMARY:AFLAC ENROLLMENT TIME!
DESCRIPTION:Event info\: https\://www.uupsbu.org/rsvpmaker/aflac-enrol
 lment-time-2017-03-08/
END:VEVENT
END:VCALENDAR