BEGIN:VCALENDAR
VERSION:2.0
CALSCALE:GREGORIAN
PRODID:-//WordPress//RSVPMaker//EN
METHOD:REQUEST
BEGIN:VEVENT
DTSTAMP:20260425T022939Z
UID:48AB2F9B45957AB574CF005EB8A76760@rsvpmaker.com
SEQUENCE:0
STATUS:CONFIRMED
DTSTART:20160928T160000Z
DTEND:20160928T170000Z
LOCATION:See\: https\://www.uupsbu.org/rsvpmaker/aflac-open-enrollment
 -2016-09-00/
SUMMARY:AFLAC Open Enrollment
DESCRIPTION:Event info\: https\://www.uupsbu.org/rsvpmaker/aflac-open-
 enrollment-2016-09-00/
END:VEVENT
END:VCALENDAR