BEGIN:VCALENDAR
VERSION:2.0
CALSCALE:GREGORIAN
PRODID:-//WordPress//RSVPMaker//EN
METHOD:REQUEST
BEGIN:VEVENT
DTSTAMP:20260425T205323Z
UID:9A093D729036A5BD4736E03C5D634501@rsvpmaker.com
SEQUENCE:0
STATUS:CONFIRMED
DTSTART:20231025T203000Z
DTEND:20231025T213000Z
LOCATION:See\: https\://www.uupsbu.org/rsvpmaker/afs-panel-on-academic
 -freedom/
SUMMARY:AFS panel on Academic Freedom
DESCRIPTION:Event info\: https\://www.uupsbu.org/rsvpmaker/afs-panel-o
 n-academic-freedom/
END:VEVENT
END:VCALENDAR