BEGIN:VCALENDAR
VERSION:2.0
CALSCALE:GREGORIAN
PRODID:-//WordPress//RSVPMaker//EN
METHOD:REQUEST
BEGIN:VEVENT
DTSTAMP:20260424T121929Z
UID:DDCB155487B88AAA80AED158006BDBDF@rsvpmaker.com
SEQUENCE:0
STATUS:CONFIRMED
DTSTART:20190423T160000Z
DTEND:20190423T170000Z
LOCATION:See\: https\://www.uupsbu.org/rsvpmaker/all-department-repres
 entatives-meeting-2019-4-23/
SUMMARY:All Department Representatives Meeting
DESCRIPTION:Event info\: https\://www.uupsbu.org/rsvpmaker/all-departm
 ent-representatives-meeting-2019-4-23/
END:VEVENT
END:VCALENDAR