BEGIN:VCALENDAR
VERSION:2.0
CALSCALE:GREGORIAN
PRODID:-//WordPress//RSVPMaker//EN
METHOD:REQUEST
BEGIN:VEVENT
DTSTAMP:20260425T191918Z
UID:EE07C6FB926A29E3A77A8212F6D03C01@rsvpmaker.com
SEQUENCE:0
STATUS:CONFIRMED
DTSTART:20231103T210000Z
DTEND:20231103T233000Z
LOCATION:See\: https\://www.uupsbu.org/rsvpmaker/annual-fast-fund-gift
 -basket-fundraiser/
SUMMARY:Annual FAST Fund Gift Basket Fundraiser (In-person only)
DESCRIPTION:Event info\: https\://www.uupsbu.org/rsvpmaker/annual-fast
 -fund-gift-basket-fundraiser/
END:VEVENT
END:VCALENDAR