BEGIN:VCALENDAR
VERSION:2.0
CALSCALE:GREGORIAN
PRODID:-//WordPress//RSVPMaker//EN
METHOD:REQUEST
BEGIN:VEVENT
DTSTAMP:20260426T000606Z
UID:5513C36E7C334DD20AB0FFEAC130DCA8@rsvpmaker.com
SEQUENCE:0
STATUS:CONFIRMED
DTSTART:20230829T160000Z
DTEND:20230829T170000Z
LOCATION:See\: https\://www.uupsbu.org/rsvpmaker/august-2023-pre-retir
 ement-workshops-part-1-medicare-healthcare/
SUMMARY:August 2023 Pre-Retirement Workshops (Part 1: Medicare/Healthc
 are)
DESCRIPTION:Event info\: https\://www.uupsbu.org/rsvpmaker/august-2023
 -pre-retirement-workshops-part-1-medicare-healthcare/
END:VEVENT
END:VCALENDAR