BEGIN:VCALENDAR
VERSION:2.0
CALSCALE:GREGORIAN
PRODID:-//WordPress//RSVPMaker//EN
METHOD:REQUEST
BEGIN:VEVENT
DTSTAMP:20260426T000418Z
UID:454CECC4829279E64D624CD8A8C9DDF1@rsvpmaker.com
SEQUENCE:0
STATUS:CONFIRMED
DTSTART:20230831T160000Z
DTEND:20230831T170000Z
LOCATION:See\: https\://www.uupsbu.org/rsvpmaker/august-2023-pre-retir
 ement-workshops-part-2-union-benefits-dental-vision/
SUMMARY:August 2023 Pre-Retirement Workshops (Part 2: Union Benefits -
 - dental & vision)
DESCRIPTION:Event info\: https\://www.uupsbu.org/rsvpmaker/august-2023
 -pre-retirement-workshops-part-2-union-benefits-dental-vision/
END:VEVENT
END:VCALENDAR