BEGIN:VCALENDAR
VERSION:2.0
CALSCALE:GREGORIAN
PRODID:-//WordPress//RSVPMaker//EN
METHOD:REQUEST
BEGIN:VEVENT
DTSTAMP:20260426T001212Z
UID:89DB09D856D45D361982EDC10CE738A2@rsvpmaker.com
SEQUENCE:0
STATUS:CONFIRMED
DTSTART:20230810T160000Z
DTEND:20230810T170000Z
LOCATION:See\: https\://www.uupsbu.org/rsvpmaker/august-executive-boar
 d-meeting-hybrid/
SUMMARY:August Executive Board Meeting (Hybrid)
DESCRIPTION:Event info\: https\://www.uupsbu.org/rsvpmaker/august-exec
 utive-board-meeting-hybrid/
END:VEVENT
END:VCALENDAR