BEGIN:VCALENDAR
VERSION:2.0
CALSCALE:GREGORIAN
PRODID:-//WordPress//RSVPMaker//EN
METHOD:REQUEST
BEGIN:VEVENT
DTSTAMP:20260425T222723Z
UID:D0997DE7AF2F5D411D6B9C5AC64F53A0@rsvpmaker.com
SEQUENCE:0
STATUS:CONFIRMED
DTSTART:20230911T160000Z
DTEND:20230911T170000Z
LOCATION:See\: https\://www.uupsbu.org/rsvpmaker/blood-donation-on-cam
 pus/
SUMMARY:Blood Donation (on campus)
DESCRIPTION:Event info\: https\://www.uupsbu.org/rsvpmaker/blood-donat
 ion-on-campus/
END:VEVENT
END:VCALENDAR