BEGIN:VCALENDAR
VERSION:2.0
CALSCALE:GREGORIAN
PRODID:-//WordPress//RSVPMaker//EN
METHOD:REQUEST
BEGIN:VEVENT
DTSTAMP:20260425T004200Z
UID:0F96613235062963CCDE717B18F97592@rsvpmaker.com
SEQUENCE:0
STATUS:CONFIRMED
DTSTART:20161013T160000Z
DTEND:20161013T170000Z
LOCATION:See\: https\://www.uupsbu.org/rsvpmaker/bullying-in-the-workp
 lace-2016-10-13/
SUMMARY:Bullying in the Workplace
DESCRIPTION:Event info\: https\://www.uupsbu.org/rsvpmaker/bullying-in
 -the-workplace-2016-10-13/
END:VEVENT
END:VCALENDAR