BEGIN:VCALENDAR
VERSION:2.0
CALSCALE:GREGORIAN
PRODID:-//WordPress//RSVPMaker//EN
METHOD:REQUEST
BEGIN:VEVENT
DTSTAMP:20260424T064225Z
UID:4B6538A44A1DFDC2B83477CD76DEE98E@rsvpmaker.com
SEQUENCE:0
STATUS:CONFIRMED
DTSTART:20171012T160000Z
DTEND:20171012T170000Z
LOCATION:See\: https\://www.uupsbu.org/rsvpmaker/change-of-date-to-105
 -coffee-with-kevin-2017-10-12/
SUMMARY:Coffee w/Kevin:Change of date to 10/5
DESCRIPTION:Event info\: https\://www.uupsbu.org/rsvpmaker/change-of-d
 ate-to-105-coffee-with-kevin-2017-10-12/
END:VEVENT
END:VCALENDAR