BEGIN:VCALENDAR
VERSION:2.0
CALSCALE:GREGORIAN
PRODID:-//WordPress//RSVPMaker//EN
METHOD:REQUEST
BEGIN:VEVENT
DTSTAMP:20260424T063149Z
UID:F84C0FD2C9FC0115AA7144AF5CB76CFB@rsvpmaker.com
SEQUENCE:0
STATUS:CONFIRMED
DTSTART:20251015T160000Z
DTEND:20251015T170000Z
LOCATION:See\: https\://www.uupsbu.org/rsvpmaker/chapter-academic-coun
 cil/
SUMMARY:Chapter Academic Council
DESCRIPTION:Event info\: https\://www.uupsbu.org/rsvpmaker/chapter-aca
 demic-council/
END:VEVENT
END:VCALENDAR