BEGIN:VCALENDAR
VERSION:2.0
CALSCALE:GREGORIAN
PRODID:-//WordPress//RSVPMaker//EN
METHOD:REQUEST
BEGIN:VEVENT
DTSTAMP:20260424T214748Z
UID:996A7FA078CC36C46D02F9AF3BEF918B@rsvpmaker.com
SEQUENCE:0
STATUS:CONFIRMED
DTSTART:20161225T170000Z
DTEND:20161225T180000Z
LOCATION:See\: https\://www.uupsbu.org/rsvpmaker/christmas-2016-12-25/
SUMMARY:Christmas
DESCRIPTION:Event info\: https\://www.uupsbu.org/rsvpmaker/christmas-2
 016-12-25/
END:VEVENT
END:VCALENDAR