BEGIN:VCALENDAR
VERSION:2.0
CALSCALE:GREGORIAN
PRODID:-//WordPress//RSVPMaker//EN
METHOD:REQUEST
BEGIN:VEVENT
DTSTAMP:20260424T231436Z
UID:DC6A70712A252123C40D2ADBA6A11D84@rsvpmaker.com
SEQUENCE:0
STATUS:CONFIRMED
DTSTART:20161111T213000Z
DTEND:20161111T223000Z
LOCATION:See\: https\://www.uupsbu.org/rsvpmaker/club-red-sponsored-by
 -uup-2016-11-11/
SUMMARY:Club Red - Sponsored by UUP
DESCRIPTION:Event info\: https\://www.uupsbu.org/rsvpmaker/club-red-sp
 onsored-by-uup-2016-11-11/
END:VEVENT
END:VCALENDAR