BEGIN:VCALENDAR
VERSION:2.0
CALSCALE:GREGORIAN
PRODID:-//WordPress//RSVPMaker//EN
METHOD:REQUEST
BEGIN:VEVENT
DTSTAMP:20260424T080559Z
UID:AA169B49B583A2B5AF89203C2B78C67C@rsvpmaker.com
SEQUENCE:0
STATUS:CONFIRMED
DTSTART:20170914T160000Z
DTEND:20170914T170000Z
LOCATION:See\: https\://www.uupsbu.org/rsvpmaker/coffee-with-kevin-201
 7-09-14/
SUMMARY:Coffee with Kevin
DESCRIPTION:Event info\: https\://www.uupsbu.org/rsvpmaker/coffee-with
 -kevin-2017-09-14/
END:VEVENT
END:VCALENDAR