BEGIN:VCALENDAR
VERSION:2.0
CALSCALE:GREGORIAN
PRODID:-//WordPress//RSVPMaker//EN
METHOD:REQUEST
BEGIN:VEVENT
DTSTAMP:20260424T063603Z
UID:F57A2F557B098C43F11AB969EFE1504B@rsvpmaker.com
SEQUENCE:0
STATUS:CONFIRMED
DTSTART:20171005T160000Z
DTEND:20171005T170000Z
LOCATION:See\: https\://www.uupsbu.org/rsvpmaker/coffee-with-kevin-201
 7-10-05/
SUMMARY:Coffee with Kevin
DESCRIPTION:Event info\: https\://www.uupsbu.org/rsvpmaker/coffee-with
 -kevin-2017-10-05/
END:VEVENT
END:VCALENDAR