BEGIN:VCALENDAR
VERSION:2.0
CALSCALE:GREGORIAN
PRODID:-//WordPress//RSVPMaker//EN
METHOD:REQUEST
BEGIN:VEVENT
DTSTAMP:20260425T004013Z
UID:D86EA612DEC96096C5E0FCC8DD42AB6D@rsvpmaker.com
SEQUENCE:0
STATUS:CONFIRMED
DTSTART:20161010T160000Z
DTEND:20161010T170000Z
LOCATION:See\: https\://www.uupsbu.org/rsvpmaker/columbus-day-2016-10-
 10/
SUMMARY:Columbus Day
DESCRIPTION:Event info\: https\://www.uupsbu.org/rsvpmaker/columbus-da
 y-2016-10-10/
END:VEVENT
END:VCALENDAR