BEGIN:VCALENDAR
VERSION:2.0
CALSCALE:GREGORIAN
PRODID:-//WordPress//RSVPMaker//EN
METHOD:REQUEST
BEGIN:VEVENT
DTSTAMP:20260425T205313Z
UID:B356E7AED7EE82589E54A466E0DCA157@rsvpmaker.com
SEQUENCE:0
STATUS:CONFIRMED
DTSTART:20231025T170000Z
DTEND:20231025T180000Z
LOCATION:See\: https\://www.uupsbu.org/rsvpmaker/communicating-across-
 generations-an-ombuds-workshop/
SUMMARY:COMMUNICATING ACROSS GENERATIONS: An Ombuds Workshop
DESCRIPTION:Event info\: https\://www.uupsbu.org/rsvpmaker/communicati
 ng-across-generations-an-ombuds-workshop/
END:VEVENT
END:VCALENDAR