BEGIN:VCALENDAR
VERSION:2.0
CALSCALE:GREGORIAN
PRODID:-//WordPress//RSVPMaker//EN
METHOD:REQUEST
BEGIN:VEVENT
DTSTAMP:20260425T205452Z
UID:D55CBF210F175F4A37916EAFE6C04F0D@rsvpmaker.com
SEQUENCE:0
STATUS:CONFIRMED
DTSTART:20231020T160000Z
DTEND:20231020T170000Z
LOCATION:See\: https\://www.uupsbu.org/rsvpmaker/communication-tool-ki
 t-i-hear-you-an-ombuds-workshop-2/
SUMMARY:COMMUNICATION TOOL KIT - I HEAR YOU: An Ombuds Workshop
DESCRIPTION:Event info\: https\://www.uupsbu.org/rsvpmaker/communicati
 on-tool-kit-i-hear-you-an-ombuds-workshop-2/
END:VEVENT
END:VCALENDAR