BEGIN:VCALENDAR
VERSION:2.0
CALSCALE:GREGORIAN
PRODID:-//WordPress//RSVPMaker//EN
METHOD:REQUEST
BEGIN:VEVENT
DTSTAMP:20260424T171117Z
UID:217EEDD1BA8C592DB97D0DBE54C7ADFC@rsvpmaker.com
SEQUENCE:0
STATUS:CONFIRMED
DTSTART:20170329T160000Z
DTEND:20170329T170000Z
LOCATION:See\: https\://www.uupsbu.org/rsvpmaker/constitutional-conven
 tion-meeting-2017-03-29/
SUMMARY:Constitutional Convention Meeting
DESCRIPTION:Event info\: https\://www.uupsbu.org/rsvpmaker/constitutio
 nal-convention-meeting-2017-03-29/
END:VEVENT
END:VCALENDAR