BEGIN:VCALENDAR
VERSION:2.0
CALSCALE:GREGORIAN
PRODID:-//WordPress//RSVPMaker//EN
METHOD:REQUEST
BEGIN:VEVENT
DTSTAMP:20260424T123603Z
UID:A64BD53139F71961C5C31A9AF03D775E@rsvpmaker.com
SEQUENCE:0
STATUS:CONFIRMED
DTSTART:20190418T160000Z
DTEND:20190418T170000Z
LOCATION:See\: https\://www.uupsbu.org/rsvpmaker/contingent-concerns-c
 ommittee-2019-4-18/
SUMMARY:Contingent Concerns Committee
DESCRIPTION:Event info\: https\://www.uupsbu.org/rsvpmaker/contingent-
 concerns-committee-2019-4-18/
END:VEVENT
END:VCALENDAR