BEGIN:VCALENDAR
VERSION:2.0
CALSCALE:GREGORIAN
PRODID:-//WordPress//RSVPMaker//EN
METHOD:REQUEST
BEGIN:VEVENT
DTSTAMP:20260424T110121Z
UID:C5C1CB0BEBD56AE38817B251AD72BEDB@rsvpmaker.com
SEQUENCE:0
STATUS:CONFIRMED
DTSTART:20190328T160000Z
DTEND:20190328T170000Z
LOCATION:See\: https\://www.uupsbu.org/rsvpmaker/contingents-concerns-
 committee-meeting/
SUMMARY:Contingents' Concerns Committee Meeting
DESCRIPTION:Event info\: https\://www.uupsbu.org/rsvpmaker/contingents
 -concerns-committee-meeting/
END:VEVENT
END:VCALENDAR