BEGIN:VCALENDAR
VERSION:2.0
CALSCALE:GREGORIAN
PRODID:-//WordPress//RSVPMaker//EN
METHOD:REQUEST
BEGIN:VEVENT
DTSTAMP:20260426T012905Z
UID:8A7CF65139A9FBB34F03B046D8DC597C@rsvpmaker.com
SEQUENCE:0
STATUS:CONFIRMED
DTSTART:20230724T170000Z
DTEND:20230724T180000Z
LOCATION:See\: https\://www.uupsbu.org/rsvpmaker/contract-verification
 -meeting/
SUMMARY:Tentative Contract Agreement Briefing
DESCRIPTION:Event info\: https\://www.uupsbu.org/rsvpmaker/contract-ve
 rification-meeting/
END:VEVENT
END:VCALENDAR